BEGIN:VCALENDAR
VERSION:2.0
PRODID:-//Cristina Graeml - ECPv4.6.17//NONSGML v1.0//EN
CALSCALE:GREGORIAN
METHOD:PUBLISH
X-WR-CALNAME:Cristina Graeml
X-ORIGINAL-URL:https://cristinagraeml.mobnex.com.br
X-WR-CALDESC:Eventos para Cristina Graeml
BEGIN:VEVENT
DTSTART;VALUE=DATE:20240724
DTEND;VALUE=DATE:20240725
DTSTAMP:20260419T130951
CREATED:20240723T173753Z
LAST-MODIFIED:20240723T173822Z
UID:1731-1721779200-1721865599@cristinagraeml.mobnex.com.br
SUMMARY:Novo evento
DESCRIPTION:Conteúdo relativo ao candidato \n
URL:https://cristinagraeml.mobnex.com.br/evento/novo-evento/
ATTACH;FMTTYPE=image/png:https://cristinagraeml.mobnex.com.br/wp-content/uploads/sites/8/2024/07/fav.png
END:VEVENT
END:VCALENDAR