BEGIN:VCALENDAR
VERSION:2.0
PRODID:-//Cristina Graeml - ECPv4.6.17//NONSGML v1.0//EN
CALSCALE:GREGORIAN
METHOD:PUBLISH
X-WR-CALNAME:Cristina Graeml
X-ORIGINAL-URL:https://cristinagraeml.mobnex.com.br
X-WR-CALDESC:Eventos para Cristina Graeml
BEGIN:VEVENT
DTSTART;VALUE=DATE:20240801
DTEND;VALUE=DATE:20240802
DTSTAMP:20260419T145545
CREATED:20240731T170845Z
LAST-MODIFIED:20240731T170845Z
UID:1736-1722470400-1722556799@cristinagraeml.mobnex.com.br
SUMMARY:Evento de Teste
DESCRIPTION:Evento de Teste \n
URL:https://cristinagraeml.mobnex.com.br/evento/evento-de-teste-2/
END:VEVENT
END:VCALENDAR